BEGIN:VCALENDAR
VERSION:2.0
PRODID:-//eventon.com NONSGML v1.0//EN
BEGIN:VEVENT
UID:69e619e79eb8f
DTSTAMP:20260420T051951
DTSTART:20260405T170000Z
DTEND:20260405T193000Z
TZID:America/Los_Angeles
LOCATION:Mary & Joseph Retreat Center 5300 Crest Rd
SUMMARY:Easter Sunday Breakfast
DESCRIPTION: Easter Sunday Breakfast\nhttps://laretreatcenters.com/events/easter-sunday-breakfast/
URL:https://laretreatcenters.com/events/easter-sunday-breakfast/
END:VEVENT
END:VCALENDAR