BEGIN:VCALENDAR
VERSION:2.0
PRODID:-//eventon.com NONSGML v1.0//EN
BEGIN:VEVENT
UID:69e602135f8f1
DTSTAMP:20260420T033811
DTSTART:20260620T010000Z
DTEND:20260621T203000Z
TZID:America/Los_Angeles
LOCATION:Mary & Joseph Retreat Center 5300 Crest Rd
SUMMARY:Design for Living: 3 Day Spiritual Retreat
DESCRIPTION: Design for Living: 3 Day Spiritual Retreat\nhttps://laretreatcenters.com/events/design-for-living-3-day-spiritual-retreat/
URL:https://laretreatcenters.com/events/design-for-living-3-day-spiritual-retreat/
END:VEVENT
END:VCALENDAR