BEGIN:VCALENDAR
VERSION:2.0
PRODID:-//eventon.com NONSGML v1.0//EN
BEGIN:VEVENT
UID:69e6027945bbf
DTSTAMP:20260420T033953
DTSTART:20260425T170000Z
DTEND:20260425T213000Z
TZID:America/Los_Angeles
LOCATION:Mary & Joseph Retreat Center 5300 Crest Rd
SUMMARY:Fr. Pat Crowley: Day of Renewal & Healing
DESCRIPTION: Fr. Pat Crowley: Day of Renewal & Healing\nhttps://laretreatcenters.com/events/renewal/
URL:https://laretreatcenters.com/events/renewal/
END:VEVENT
END:VCALENDAR