BEGIN:VCALENDAR
VERSION:2.0
PRODID:-//eventon.com NONSGML v1.0//EN
BEGIN:VEVENT
UID:69e6020290269
DTSTAMP:20260420T033754
DTSTART:20260411T160000Z
DTEND:20260411T190000Z
TZID:America/Los_Angeles
LOCATION:Mary & Joseph Retreat Center 5300 Crest Rd
SUMMARY:Superbloom Spirituality: Awakening the Soul in California's Season of Bloom
DESCRIPTION: Superbloom Spirituality: Awakening the Soul in California's Season of Bloom\nhttps://laretreatcenters.com/events/superbloom/
URL:https://laretreatcenters.com/events/superbloom/
END:VEVENT
END:VCALENDAR