BEGIN:VCALENDAR
VERSION:2.0
PRODID:-//eventon.com NONSGML v1.0//EN
BEGIN:VEVENT
UID:69e603751b6ac
DTSTAMP:20260420T034405
DTSTART:20260409T023000Z
DTEND:20260409T040000Z
TZID:America/Los_Angeles
LOCATION:Mary & Joseph Retreat Center Online 
SUMMARY:Centering Prayer Group
DESCRIPTION: Centering Prayer Group\nhttps://laretreatcenters.com/events/centering-prayer-group-3/var/ri-52.l-L1
URL:https://laretreatcenters.com/events/centering-prayer-group-3/var/ri-52.l-L1
END:VEVENT
END:VCALENDAR