BEGIN:VCALENDAR
VERSION:2.0
PRODID:-//eventon.com NONSGML v1.0//EN
BEGIN:VEVENT
UID:69e6026ad3388
DTSTAMP:20260420T033938
DTSTART:20260627T140000Z
DTEND:20260627T200000Z
TZID:America/Los_Angeles
LOCATION:Mary & Joseph Retreat Center 5300 Crest Rd
SUMMARY:Along the Way: A Pilgrim Walk
DESCRIPTION: Along the Way: A Pilgrim Walk\nhttps://laretreatcenters.com/events/along-the-way-a-pilgrim-walk-2/
URL:https://laretreatcenters.com/events/along-the-way-a-pilgrim-walk-2/
END:VEVENT
END:VCALENDAR