BEGIN:VCALENDAR
VERSION:2.0
PRODID:-//eventon.com NONSGML v1.0//EN
BEGIN:VEVENT
UID:69e7349063f46
DTSTAMP:20260421T012552
DTSTART:20260717T220000Z
DTEND:20260719T200000Z
TZID:America/Los_Angeles
LOCATION:Serra Retreat 3401 Serra Rd
SUMMARY:Legacy Workshop: Your Story\,  Your Legacy
DESCRIPTION: Legacy Workshop: Your Story\,  Your Legacy\nhttps://laretreatcenters.com/events/your-story-your-legacy-retreat-a-full-sensory-exploration/
URL:https://laretreatcenters.com/events/your-story-your-legacy-retreat-a-full-sensory-exploration/
END:VEVENT
END:VCALENDAR