BEGIN:VCALENDAR
VERSION:2.0
PRODID:-//eventon.com NONSGML v1.0//EN
BEGIN:VEVENT
UID:69e61b8f7f338
DTSTAMP:20260420T052655
DTSTART:20260502T190000Z
DTEND:20260502T220000Z
TZID:America/Los_Angeles
LOCATION:Mary & Joseph Retreat Center 5300 Crest Rd
SUMMARY:World Labyrinth Day
DESCRIPTION: World Labyrinth Day\nhttps://laretreatcenters.com/events/walk-as-one-at-1-world-labyrinth-day/
URL:https://laretreatcenters.com/events/walk-as-one-at-1-world-labyrinth-day/
END:VEVENT
END:VCALENDAR